BEGIN:VCALENDAR
VERSION:2.0
METHOD:PUBLISH
X-WR-CALNAME: Календарь | Елена Стецюк
PRODID:-//Drupal iCal API//EN
BEGIN:VEVENT
UID:calendar.768.changed.0.0
SUMMARY:Дело ДВ\, сентябрь №3 2010\, Клиентская база  \n
 данных\, часть 3
DTSTAMP:20260421T144605Z
DTSTART:20260421Z
DTEND:20260422Z
1776731642
URL;VALUE=URI:http://www.stetsyk.ru/delo-dv-sentyabr-3-2010-klientskaya-baza-dannykh-chast-3
END:VEVENT
END:VCALENDAR
