BEGIN:VCALENDAR
VERSION:2.0
METHOD:PUBLISH
X-WR-CALNAME: Календарь | Елена Стецюк
PRODID:-//Drupal iCal API//EN
BEGIN:VEVENT
UID:calendar.771.changed.0.0
SUMMARY:Дело ДВ\, март-апрель № 1 (4) 2011\, Клиентская  \n
 база данных\, часть 4
DTSTAMP:20260422T124622Z
DTSTART:20260422Z
DTEND:20260423Z
1776818042
URL;VALUE=URI:http://www.stetsyk.ru/delo-dv-mart-aprel-1-4-2011-klientskaya-baza-dannykh-chast-4
END:VEVENT
END:VCALENDAR
