BEGIN:VCALENDAR
VERSION:2.0
METHOD:PUBLISH
X-WR-CALNAME: Календарь | Елена Стецюк
PRODID:-//Drupal iCal API//EN
BEGIN:VEVENT
UID:calendar.775.changed.0.0
SUMMARY:Маркетинг успеха\, №6 (32) 2011\, Работающие  \n
 схемы стимулирования сбыта
DTSTAMP:20260426T105840Z
DTSTART:20260426Z
DTEND:20260427Z
1777163642
URL;VALUE=URI:http://www.stetsyk.ru/marketing-uspekha-6-32-2011-rabotayushchie-skhemy-stimulirovaniya-sbyta
END:VEVENT
END:VCALENDAR
