BEGIN:VCALENDAR
VERSION:2.0
METHOD:PUBLISH
X-WR-CALNAME: Календарь | Елена Стецюк
PRODID:-//Drupal iCal API//EN
BEGIN:VEVENT
UID:calendar.774.changed.0.0
SUMMARY:Маркетинг успеха\, №4 (30) 2011\, Самое главное  \n
 качество-это любовь к людям
DTSTAMP:20260425T230453Z
DTSTART:20260425Z
DTEND:20260426Z
1777077245
URL;VALUE=URI:http://www.stetsyk.ru/marketing-uspekha-4-30-2011-samoe-glavnoe-kachestvo-eto-lyubov-k-lyudyam
END:VEVENT
END:VCALENDAR
