BEGIN:VCALENDAR
VERSION:2.0
METHOD:PUBLISH
X-WR-CALNAME: Календарь | Елена Стецюк
PRODID:-//Drupal iCal API//EN
BEGIN:VEVENT
UID:calendar.772.changed.0.0
SUMMARY:Дело ДВ\, март-апрель № 1 (4) 2011\, Клиентская  \n
 база данных\, часть 5 (2)
DTSTAMP:20260423T112303Z
DTSTART:20260423Z
DTEND:20260424Z
1776904442
URL;VALUE=URI:http://www.stetsyk.ru/delo-dv-mart-aprel-1-4-2011-klientskaya-baza-dannykh-chast-5-2
END:VEVENT
END:VCALENDAR
