BEGIN:VCALENDAR
VERSION:2.0
METHOD:PUBLISH
X-WR-CALNAME: Календарь | Елена Стецюк
PRODID:-//Drupal iCal API//EN
BEGIN:VEVENT
UID:calendar.789.changed.0.0
SUMMARY:Профиль бизнеса\, июль-август 2014 \, Точки  \n
 контроля
DTSTAMP:20260420T121110Z
DTSTART:20260420Z
DTEND:20260421Z
1776645242
URL;VALUE=URI:http://www.stetsyk.ru/profil-biznesa-iyul-avgust-2014-tochki-kontrolya
END:VEVENT
END:VCALENDAR
